BEGIN:VCALENDAR
VERSION:2.0
PRODID:-//McHenry County Citizens for Choice - ECPv6.8.3//NONSGML v1.0//EN
CALSCALE:GREGORIAN
METHOD:PUBLISH
X-WR-CALNAME:McHenry County Citizens for Choice
X-ORIGINAL-URL:https://www.mcccprochoice.org
X-WR-CALDESC:Events for McHenry County Citizens for Choice
REFRESH-INTERVAL;VALUE=DURATION:PT1H
X-Robots-Tag:noindex
X-PUBLISHED-TTL:PT1H
BEGIN:VTIMEZONE
TZID:America/Chicago
BEGIN:DAYLIGHT
TZOFFSETFROM:-0600
TZOFFSETTO:-0500
TZNAME:CDT
DTSTART:20240310T080000
END:DAYLIGHT
BEGIN:STANDARD
TZOFFSETFROM:-0500
TZOFFSETTO:-0600
TZNAME:CST
DTSTART:20241103T070000
END:STANDARD
END:VTIMEZONE
BEGIN:VEVENT
DTSTART;TZID=America/Chicago:20240120T120000
DTEND;TZID=America/Chicago:20240120T130000
DTSTAMP:20260419T091258
CREATED:20240106T001630Z
LAST-MODIFIED:20240108T204133Z
UID:1683-1705752000-1705755600@www.mcccprochoice.org
SUMMARY:Bigger Than Roe 2024 - Protest the Crystal Lake CPC
DESCRIPTION:On January 20th\, days before the anniversary of Roe v. Wade\, feminists all across the USA will be marching and protesting … to shore up our forces and take on the work ahead in the fight for reproductive freedom.  Here in McHenry County\, please join McHenry County NOW and McHenry County Citizens for Choice\, as we protest near one of the many fake clinics (“crisis pregnancy centers”) that plague us. \nDate and time:  Noon to 1:00 pm on Saturday January 20th \nWatch the livestream on Facebook or YouTube (and please share.) \nOr join us in person at 610 Crystal Point Road\, Crystal Lake\n(by the emissions testing place\, southeast of Main Street & NW Hwy (Rte 14)\n(we’ll have signs\, or bring your own) \nVisit womensmarch.com\, watch this great video\, and get plugged into womensmarch.com here. \nAs Women’s March writes:  “This January\, we will unite to send an unequivocal message: Our resolve is unyielding. Our movement is not just about Roe; it is about safeguarding the rights and freedoms for all\, now and for future generations. We are the majority\, and our voices will be heard. \n“On the weekend of January 19-21\, 2024\, we’ll be mobilizing in all 50 states with priority on the nine states where abortion rights will be directly on the ballot. These mobilizations are a strategic intervention to galvanize voters for the 2024 elections. We’re showing up to secure abortion access and counter far-right extremism. Join us in the state-by-state battle to defend our rights shape our future.” \n 
URL:https://www.mcccprochoice.org/event/bigger-than-roe-2024-protest-the-crystal-lake-cpc/
LOCATION:610 Crystal Point Road\, 610 Crystal Point Road\, Crystal Lake\, IL\, 60014\, United States
END:VEVENT
END:VCALENDAR