BEGIN:VCALENDAR
VERSION:2.0
PRODID:-//McHenry County Citizens for Choice - ECPv6.8.3//NONSGML v1.0//EN
CALSCALE:GREGORIAN
METHOD:PUBLISH
X-WR-CALNAME:McHenry County Citizens for Choice
X-ORIGINAL-URL:https://www.mcccprochoice.org
X-WR-CALDESC:Events for McHenry County Citizens for Choice
REFRESH-INTERVAL;VALUE=DURATION:PT1H
X-Robots-Tag:noindex
X-PUBLISHED-TTL:PT1H
BEGIN:VTIMEZONE
TZID:America/Chicago
BEGIN:DAYLIGHT
TZOFFSETFROM:-0600
TZOFFSETTO:-0500
TZNAME:CDT
DTSTART:20240310T080000
END:DAYLIGHT
BEGIN:STANDARD
TZOFFSETFROM:-0500
TZOFFSETTO:-0600
TZNAME:CST
DTSTART:20241103T070000
END:STANDARD
END:VTIMEZONE
BEGIN:VEVENT
DTSTART;TZID=America/Chicago:20240130T180000
DTEND;TZID=America/Chicago:20240130T200000
DTSTAMP:20260419T091314
CREATED:20240124T184747Z
LAST-MODIFIED:20240126T163245Z
UID:1725-1706637600-1706644800@www.mcccprochoice.org
SUMMARY:The Year Ahead in The Fight For Reproductive Justice
DESCRIPTION:On Tuesday\, January 30th\, Chicago for Abortion Rights will be hosting The Year Ahead In The Fight For Reproductive Justice\, a roundtable discussion on the many aspects of the ongoing fight for bodily autonomy. Local reproductive and social justice organizations will have materials\, books\, and swag; come learn about ways you can get involved! \nClick here to register. \nThe fascinating lineup of speakers includes: \n\nJeanine Valrie Logan\, Chicago South Side Birth Center\nTayo Mbande\, Chicago Birthworks Collective\nLisa Battisfore\, Reproductive Transparency Now\nMary Bowman\, abortion and trans healthcare provider\nAlicia Hurtado\, Chicago Abortion Fund\n\nTopics will innclude the right’s assault on medication abortion\, the fight for birth justice and addressing racial disparities in reproductive healthcare\, how to fight the increased criminalization of abortion and pregnancy outcomes\, and the rise of Crisis Pregnancy Centers and the recent news that the Attorney-General of Illinois is backing down from enforcing passed legislation to hold crisis pregnancy centers accountable for their deceptive practices. \nYou can attend either in person at Grace Place\, 637 South Dearborn Street\, in downtown Chicago\, or watch the livestream.  Doors open at 5:30 pm\, and the programm starts at 6:00.  Registration is required — here’s the link.  Note also that masks are required if you’re attending in person — all of us are too important to get sick! \n 
URL:https://www.mcccprochoice.org/event/the-year-ahead-in-the-fight-for-reproductive-justice/
LOCATION:Grace Place & Hybrid\, 637 South Dearborn Street\, Chicago\, IL\, 60605\, United States
END:VEVENT
END:VCALENDAR